Package: GOTHiC Version: 1.44.0 Command: /Library/Frameworks/R.framework/Resources/bin/R CMD INSTALL GOTHiC StartedAt: 2025-10-13 16:32:25 -0400 (Mon, 13 Oct 2025) EndedAt: 2025-10-13 16:33:46 -0400 (Mon, 13 Oct 2025) EllapsedTime: 81.2 seconds RetCode: 0 Status: OK