Package: GOTHiC Version: 1.44.0 Command: /home/biocbuild/R/R/bin/R CMD build --keep-empty-dirs --no-resave-data GOTHiC StartedAt: 2025-10-14 01:24:30 -0000 (Tue, 14 Oct 2025) EndedAt: 2025-10-14 01:25:25 -0000 (Tue, 14 Oct 2025) EllapsedTime: 55.0 seconds RetCode: 0 Status: OK PackageFile: GOTHiC_1.44.0.tar.gz PackageFileSize: 1.686 MiB