Package: GOTHiC Version: 1.44.0 Command: /Library/Frameworks/R.framework/Resources/bin/R CMD build --keep-empty-dirs --no-resave-data GOTHiC StartedAt: 2025-10-14 01:37:12 -0400 (Tue, 14 Oct 2025) EndedAt: 2025-10-14 01:38:04 -0400 (Tue, 14 Oct 2025) EllapsedTime: 52.5 seconds RetCode: 0 Status: OK PackageFile: GOTHiC_1.44.0.tar.gz PackageFileSize: 1.697 MiB