Package: GNET2 Version: 1.24.0 Command: /home/biocbuild/bbs-3.21-bioc/R/bin/R CMD check --install=check:GNET2.install-out.txt --library=/home/biocbuild/bbs-3.21-bioc/R/site-library --timings GNET2_1.24.0.tar.gz StartedAt: 2025-10-15 23:46:01 -0400 (Wed, 15 Oct 2025) EndedAt: 2025-10-15 23:49:11 -0400 (Wed, 15 Oct 2025) EllapsedTime: 190.2 seconds RetCode: 0 Status: OK CheckDir: GNET2.Rcheck Warnings: 0