Package: GNET2 Version: 1.24.0 Command: /Library/Frameworks/R.framework/Resources/bin/R CMD build --keep-empty-dirs --no-resave-data GNET2 StartedAt: 2025-10-13 19:25:59 -0400 (Mon, 13 Oct 2025) EndedAt: 2025-10-13 19:27:50 -0400 (Mon, 13 Oct 2025) EllapsedTime: 111.6 seconds RetCode: 0 Status: OK PackageFile: GNET2_1.24.0.tar.gz PackageFileSize: 790 KiB