Package: GNET2 Version: 1.24.0 Command: /Library/Frameworks/R.framework/Resources/bin/R CMD check --install=check:GNET2.install-out.txt --library=/Library/Frameworks/R.framework/Resources/library --no-vignettes --timings GNET2_1.24.0.tar.gz StartedAt: 2025-04-21 21:04:11 -0400 (Mon, 21 Apr 2025) EndedAt: 2025-04-21 21:07:13 -0400 (Mon, 21 Apr 2025) EllapsedTime: 181.8 seconds RetCode: 0 Status: OK CheckDir: GNET2.Rcheck Warnings: 0