Package: GNET2 Version: 1.24.0 Command: /home/biocbuild/R/R/bin/R CMD check --install=check:GNET2.install-out.txt --library=/home/biocbuild/R/R/site-library --no-vignettes --timings GNET2_1.24.0.tar.gz StartedAt: 2025-10-14 09:46:41 -0000 (Tue, 14 Oct 2025) EndedAt: 2025-10-14 09:50:44 -0000 (Tue, 14 Oct 2025) EllapsedTime: 243.1 seconds RetCode: 0 Status: OK CheckDir: GNET2.Rcheck Warnings: 0