Package: GNET2 Version: 1.24.0 Command: /Library/Frameworks/R.framework/Resources/bin/R CMD check --install=check:GNET2.install-out.txt --library=/Library/Frameworks/R.framework/Resources/library --no-vignettes --timings GNET2_1.24.0.tar.gz StartedAt: 2025-10-14 23:30:10 -0400 (Tue, 14 Oct 2025) EndedAt: 2025-10-14 23:33:37 -0400 (Tue, 14 Oct 2025) EllapsedTime: 207.3 seconds RetCode: 0 Status: OK CheckDir: GNET2.Rcheck Warnings: 0