Package: GNET2 Version: 1.24.0 Command: /Library/Frameworks/R.framework/Resources/bin/R CMD build --keep-empty-dirs --no-resave-data GNET2 StartedAt: 2025-10-14 01:29:32 -0400 (Tue, 14 Oct 2025) EndedAt: 2025-10-14 01:30:32 -0400 (Tue, 14 Oct 2025) EllapsedTime: 60.8 seconds RetCode: 0 Status: OK PackageFile: GNET2_1.24.0.tar.gz PackageFileSize: 789.6 KiB