Package: GMRP Version: 1.36.0 Command: chmod a+r GMRP -R && E:\biocbuild\bbs-3.21-bioc\R\bin\R.exe CMD build --keep-empty-dirs --no-resave-data GMRP StartedAt: 2025-08-14 19:29:03 -0400 (Thu, 14 Aug 2025) EndedAt: 2025-08-14 19:29:35 -0400 (Thu, 14 Aug 2025) EllapsedTime: 32.1 seconds RetCode: 0 Status: OK PackageFile: GMRP_1.36.0.tar.gz PackageFileSize: 898.1 KiB