Package: GMRP Version: 1.36.0 Command: /home/biocbuild/bbs-3.21-bioc/R/bin/R CMD INSTALL GMRP StartedAt: 2025-10-15 15:16:02 -0400 (Wed, 15 Oct 2025) EndedAt: 2025-10-15 15:16:11 -0400 (Wed, 15 Oct 2025) EllapsedTime: 8.9 seconds RetCode: 0 Status: OK