Package: GMRP Version: 1.36.0 Command: /home/biocbuild/bbs-3.21-bioc/R/bin/R CMD build --keep-empty-dirs --no-resave-data GMRP StartedAt: 2025-10-15 17:47:41 -0400 (Wed, 15 Oct 2025) EndedAt: 2025-10-15 17:47:59 -0400 (Wed, 15 Oct 2025) EllapsedTime: 18.0 seconds RetCode: 0 Status: OK PackageFile: GMRP_1.36.0.tar.gz PackageFileSize: 897 KiB