Package: GMRP Version: 1.36.0 Command: /home/biocbuild/R/R/bin/R CMD INSTALL GMRP StartedAt: 2025-10-13 20:28:28 -0000 (Mon, 13 Oct 2025) EndedAt: 2025-10-13 20:28:41 -0000 (Mon, 13 Oct 2025) EllapsedTime: 13.5 seconds RetCode: 0 Status: OK