Package: GMRP Version: 1.36.0 Command: /home/biocbuild/R/R/bin/R CMD build --keep-empty-dirs --no-resave-data GMRP StartedAt: 2025-10-14 01:21:52 -0000 (Tue, 14 Oct 2025) EndedAt: 2025-10-14 01:22:15 -0000 (Tue, 14 Oct 2025) EllapsedTime: 23.0 seconds RetCode: 0 Status: OK PackageFile: GMRP_1.36.0.tar.gz PackageFileSize: 884.8 KiB