Package: GMRP Version: 1.36.0 Command: /Library/Frameworks/R.framework/Resources/bin/R CMD build --keep-empty-dirs --no-resave-data GMRP StartedAt: 2025-10-14 01:29:04 -0400 (Tue, 14 Oct 2025) EndedAt: 2025-10-14 01:29:32 -0400 (Tue, 14 Oct 2025) EllapsedTime: 27.4 seconds RetCode: 0 Status: OK PackageFile: GMRP_1.36.0.tar.gz PackageFileSize: 897 KiB