Package: GGPA Version: 1.20.0 Command: /home/biocbuild/bbs-3.21-bioc/R/bin/R CMD check --install=check:GGPA.install-out.txt --library=/home/biocbuild/bbs-3.21-bioc/R/site-library --timings GGPA_1.20.0.tar.gz StartedAt: 2025-10-12 23:45:07 -0400 (Sun, 12 Oct 2025) EndedAt: 2025-10-12 23:48:24 -0400 (Sun, 12 Oct 2025) EllapsedTime: 197.4 seconds RetCode: 0 Status: OK CheckDir: GGPA.Rcheck Warnings: 0