Package: GGPA Version: 1.20.0 Command: /Library/Frameworks/R.framework/Resources/bin/R CMD build --keep-empty-dirs --no-resave-data GGPA StartedAt: 2025-10-09 19:22:08 -0400 (Thu, 09 Oct 2025) EndedAt: 2025-10-09 19:24:20 -0400 (Thu, 09 Oct 2025) EllapsedTime: 131.9 seconds RetCode: 0 Status: OK PackageFile: GGPA_1.20.0.tar.gz PackageFileSize: 4.711 MiB