Package: GGPA Version: 1.20.0 Command: /home/biocbuild/R/R/bin/R CMD INSTALL GGPA StartedAt: 2025-10-09 20:21:57 -0000 (Thu, 09 Oct 2025) EndedAt: 2025-10-09 20:23:01 -0000 (Thu, 09 Oct 2025) EllapsedTime: 64.1 seconds RetCode: 0 Status: OK