Package: GGPA Version: 1.20.0 Command: /home/biocbuild/R/R/bin/R CMD build --keep-empty-dirs --no-resave-data GGPA StartedAt: 2025-10-10 01:14:10 -0000 (Fri, 10 Oct 2025) EndedAt: 2025-10-10 01:15:54 -0000 (Fri, 10 Oct 2025) EllapsedTime: 104.0 seconds RetCode: 0 Status: OK PackageFile: GGPA_1.20.0.tar.gz PackageFileSize: 4.703 MiB