Package: GGPA Version: 1.20.0 Command: /Library/Frameworks/R.framework/Resources/bin/R CMD INSTALL GGPA StartedAt: 2025-10-13 15:28:09 -0400 (Mon, 13 Oct 2025) EndedAt: 2025-10-13 15:28:40 -0400 (Mon, 13 Oct 2025) EllapsedTime: 30.7 seconds RetCode: 0 Status: OK