Package: GGPA Version: 1.20.0 Command: /Library/Frameworks/R.framework/Resources/bin/R CMD check --install=check:GGPA.install-out.txt --library=/Library/Frameworks/R.framework/Resources/library --no-vignettes --timings GGPA_1.20.0.tar.gz StartedAt: 2025-10-14 23:14:57 -0400 (Tue, 14 Oct 2025) EndedAt: 2025-10-14 23:18:40 -0400 (Tue, 14 Oct 2025) EllapsedTime: 222.7 seconds RetCode: 0 Status: WARNINGS CheckDir: GGPA.Rcheck Warnings: 1