Package: GGPA Version: 1.20.0 Command: /Library/Frameworks/R.framework/Resources/bin/R CMD build --keep-empty-dirs --no-resave-data GGPA StartedAt: 2025-10-14 01:13:08 -0400 (Tue, 14 Oct 2025) EndedAt: 2025-10-14 01:14:27 -0400 (Tue, 14 Oct 2025) EllapsedTime: 79.0 seconds RetCode: 0 Status: OK PackageFile: GGPA_1.20.0.tar.gz PackageFileSize: 4.712 MiB