Package: GGPA Version: 1.20.0 Command: rm -rf GGPA.buildbin-libdir && mkdir GGPA.buildbin-libdir && /Users/biocbuild/BBS/utils/build-universal.sh GGPA_1.20.0.tar.gz /Library/Frameworks/R.framework/Resources/bin/R GGPA.buildbin-libdir StartedAt: 2025-10-15 18:42:52 -0400 (Wed, 15 Oct 2025) EndedAt: 2025-10-15 18:43:28 -0400 (Wed, 15 Oct 2025) EllapsedTime: 36.2 seconds RetCode: 0 Status: OK PackageFile: GGPA_1.20.0.tgz PackageFileSize: 2.862 MiB