Package: GEWIST Version: 1.52.0 Command: /Library/Frameworks/R.framework/Resources/bin/R CMD INSTALL GEWIST StartedAt: 2025-10-13 15:27:32 -0400 (Mon, 13 Oct 2025) EndedAt: 2025-10-13 15:27:35 -0400 (Mon, 13 Oct 2025) EllapsedTime: 3.4 seconds RetCode: 0 Status: OK