Package: GEOfastq Version: 1.16.0 Command: /Library/Frameworks/R.framework/Resources/bin/R CMD check --install=check:GEOfastq.install-out.txt --library=/Library/Frameworks/R.framework/Resources/library --no-vignettes --timings GEOfastq_1.16.0.tar.gz StartedAt: 2025-09-30 22:53:12 -0400 (Tue, 30 Sep 2025) EndedAt: 2025-09-30 22:53:52 -0400 (Tue, 30 Sep 2025) EllapsedTime: 39.7 seconds RetCode: 0 Status: OK CheckDir: GEOfastq.Rcheck Warnings: 0