Package: GEOfastq Version: 1.16.0 Command: rm -rf GEOfastq.buildbin-libdir && mkdir GEOfastq.buildbin-libdir && /Users/biocbuild/BBS/utils/build-universal.sh GEOfastq_1.16.0.tar.gz /Library/Frameworks/R.framework/Resources/bin/R GEOfastq.buildbin-libdir StartedAt: 2025-10-01 18:39:29 -0400 (Wed, 01 Oct 2025) EndedAt: 2025-10-01 18:39:33 -0400 (Wed, 01 Oct 2025) EllapsedTime: 3.4 seconds RetCode: 0 Status: OK PackageFile: GEOfastq_1.16.0.tgz PackageFileSize: 36.64 KiB