Package: GEOexplorer Version: 1.14.0 Command: /home/biocbuild/bbs-3.21-bioc/R/bin/R CMD INSTALL GEOexplorer StartedAt: 2025-10-15 15:32:48 -0400 (Wed, 15 Oct 2025) EndedAt: 2025-10-15 15:33:28 -0400 (Wed, 15 Oct 2025) EllapsedTime: 40.1 seconds RetCode: 0 Status: OK