Package: GEOexplorer Version: 1.14.0 Command: /Library/Frameworks/R.framework/Resources/bin/R CMD INSTALL GEOexplorer StartedAt: 2025-10-13 16:01:15 -0400 (Mon, 13 Oct 2025) EndedAt: 2025-10-13 16:02:46 -0400 (Mon, 13 Oct 2025) EllapsedTime: 90.9 seconds RetCode: 0 Status: OK