Package: GEOexplorer Version: 1.14.0 Command: /Library/Frameworks/R.framework/Resources/bin/R CMD check --install=check:GEOexplorer.install-out.txt --library=/Library/Frameworks/R.framework/Resources/library --no-vignettes --timings GEOexplorer_1.14.0.tar.gz StartedAt: 2025-10-14 04:25:30 -0400 (Tue, 14 Oct 2025) EndedAt: 2025-10-14 04:38:11 -0400 (Tue, 14 Oct 2025) EllapsedTime: 761.7 seconds RetCode: 1 Status: ERROR CheckDir: GEOexplorer.Rcheck Warnings: NA