Package: GEOexplorer Version: 1.14.0 Command: /Library/Frameworks/R.framework/Resources/bin/R CMD build --keep-empty-dirs --no-resave-data GEOexplorer StartedAt: 2025-10-13 19:20:20 -0400 (Mon, 13 Oct 2025) EndedAt: 2025-10-13 19:22:15 -0400 (Mon, 13 Oct 2025) EllapsedTime: 114.2 seconds RetCode: 0 Status: OK PackageFile: GEOexplorer_1.14.0.tar.gz PackageFileSize: 11.26 MiB