Package: GEOexplorer Version: 1.14.0 Command: rm -rf GEOexplorer.buildbin-libdir && mkdir GEOexplorer.buildbin-libdir && /Users/biocbuild/BBS/utils/build-universal.sh GEOexplorer_1.14.0.tar.gz /Library/Frameworks/R.framework/Resources/bin/R GEOexplorer.buildbin-libdir StartedAt: 2025-10-14 13:34:23 -0400 (Tue, 14 Oct 2025) EndedAt: 2025-10-14 13:36:40 -0400 (Tue, 14 Oct 2025) EllapsedTime: 137.0 seconds RetCode: 0 Status: OK PackageFile: GEOexplorer_1.14.0.tgz PackageFileSize: 7.432 MiB