Package: GEOexplorer Version: 1.14.0 Command: /Library/Frameworks/R.framework/Resources/bin/R CMD build --keep-empty-dirs --no-resave-data GEOexplorer StartedAt: 2025-10-14 01:06:21 -0400 (Tue, 14 Oct 2025) EndedAt: 2025-10-14 01:07:30 -0400 (Tue, 14 Oct 2025) EllapsedTime: 69.4 seconds RetCode: 0 Status: OK PackageFile: GEOexplorer_1.14.0.tar.gz PackageFileSize: 11.26 MiB