Package: GENESIS Version: 2.38.0 Command: chmod a+r GENESIS -R && E:\biocbuild\bbs-3.21-bioc\R\bin\R.exe CMD build --keep-empty-dirs --no-resave-data GENESIS StartedAt: 2025-08-14 19:18:53 -0400 (Thu, 14 Aug 2025) EndedAt: 2025-08-14 19:21:18 -0400 (Thu, 14 Aug 2025) EllapsedTime: 145.6 seconds RetCode: 0 Status: OK PackageFile: GENESIS_2.38.0.tar.gz PackageFileSize: 2.927 MiB