Package: GENESIS Version: 2.38.0 Command: rm -rf GENESIS.buildbin-libdir && mkdir GENESIS.buildbin-libdir && E:\biocbuild\bbs-3.21-bioc\R\bin\R.exe CMD INSTALL --build --library=GENESIS.buildbin-libdir GENESIS_2.38.0.tar.gz StartedAt: 2025-08-15 09:21:20 -0400 (Fri, 15 Aug 2025) EndedAt: 2025-08-15 09:22:30 -0400 (Fri, 15 Aug 2025) EllapsedTime: 69.6 seconds RetCode: 0 Status: OK PackageFile: GENESIS_2.38.0.zip PackageFileSize: 3.212 MiB