Package: GENESIS Version: 2.38.0 Command: /Library/Frameworks/R.framework/Resources/bin/R CMD INSTALL GENESIS StartedAt: 2025-10-13 15:43:29 -0400 (Mon, 13 Oct 2025) EndedAt: 2025-10-13 15:44:26 -0400 (Mon, 13 Oct 2025) EllapsedTime: 56.5 seconds RetCode: 0 Status: OK