Package: GENESIS Version: 2.38.0 Command: /Library/Frameworks/R.framework/Resources/bin/R CMD check --install=check:GENESIS.install-out.txt --library=/Library/Frameworks/R.framework/Resources/library --no-vignettes --timings GENESIS_2.38.0.tar.gz StartedAt: 2025-10-14 04:13:45 -0400 (Tue, 14 Oct 2025) EndedAt: 2025-10-14 04:25:24 -0400 (Tue, 14 Oct 2025) EllapsedTime: 699.8 seconds RetCode: 0 Status: OK CheckDir: GENESIS.Rcheck Warnings: 0