Package: GENESIS Version: 2.38.0 Command: /Library/Frameworks/R.framework/Resources/bin/R CMD build --keep-empty-dirs --no-resave-data GENESIS StartedAt: 2025-10-13 19:15:28 -0400 (Mon, 13 Oct 2025) EndedAt: 2025-10-13 19:19:20 -0400 (Mon, 13 Oct 2025) EllapsedTime: 232.7 seconds RetCode: 0 Status: OK PackageFile: GENESIS_2.38.0.tar.gz PackageFileSize: 3.847 MiB