Package: GENESIS Version: 2.38.0 Command: rm -rf GENESIS.buildbin-libdir && mkdir GENESIS.buildbin-libdir && /Users/biocbuild/BBS/utils/build-universal.sh GENESIS_2.38.0.tar.gz /Library/Frameworks/R.framework/Resources/bin/R GENESIS.buildbin-libdir StartedAt: 2025-10-14 13:32:19 -0400 (Tue, 14 Oct 2025) EndedAt: 2025-10-14 13:33:53 -0400 (Tue, 14 Oct 2025) EllapsedTime: 94.4 seconds RetCode: 0 Status: OK PackageFile: GENESIS_2.38.0.tgz PackageFileSize: 4.134 MiB