Package: GENESIS Version: 2.38.0 Command: /home/biocbuild/R/R/bin/R CMD INSTALL GENESIS StartedAt: 2025-10-13 20:37:07 -0000 (Mon, 13 Oct 2025) EndedAt: 2025-10-13 20:37:43 -0000 (Mon, 13 Oct 2025) EllapsedTime: 36.7 seconds RetCode: 0 Status: OK