Package: GEM Version: 1.34.0 Command: E:\biocbuild\bbs-3.21-bioc\R\bin\R.exe CMD check --no-multiarch --install=check:GEM.install-out.txt --library=E:\biocbuild\bbs-3.21-bioc\R\library --no-vignettes --timings GEM_1.34.0.tar.gz StartedAt: 2025-08-15 02:26:43 -0400 (Fri, 15 Aug 2025) EndedAt: 2025-08-15 02:27:57 -0400 (Fri, 15 Aug 2025) EllapsedTime: 73.1 seconds RetCode: 0 Status: OK CheckDir: GEM.Rcheck Warnings: 0