Package: GEM Version: 1.34.0 Command: /Library/Frameworks/R.framework/Resources/bin/R CMD build --keep-empty-dirs --no-resave-data GEM StartedAt: 2025-10-14 00:50:08 -0400 (Tue, 14 Oct 2025) EndedAt: 2025-10-14 00:50:32 -0400 (Tue, 14 Oct 2025) EllapsedTime: 23.9 seconds RetCode: 0 Status: OK PackageFile: GEM_1.34.0.tar.gz PackageFileSize: 689.6 KiB