Package: GDSArray Version: 1.28.0 Command: /home/biocbuild/bbs-3.21-bioc/R/bin/R CMD check --install=check:GDSArray.install-out.txt --library=/home/biocbuild/bbs-3.21-bioc/R/site-library --timings GDSArray_1.28.0.tar.gz StartedAt: 2025-10-15 23:27:00 -0400 (Wed, 15 Oct 2025) EndedAt: 2025-10-15 23:29:07 -0400 (Wed, 15 Oct 2025) EllapsedTime: 126.2 seconds RetCode: 0 Status: OK CheckDir: GDSArray.Rcheck Warnings: 0