Package: GDSArray Version: 1.28.0 Command: /Library/Frameworks/R.framework/Resources/bin/R CMD build --keep-empty-dirs --no-resave-data GDSArray StartedAt: 2025-10-13 19:12:32 -0400 (Mon, 13 Oct 2025) EndedAt: 2025-10-13 19:13:33 -0400 (Mon, 13 Oct 2025) EllapsedTime: 60.8 seconds RetCode: 0 Status: OK PackageFile: GDSArray_1.28.0.tar.gz PackageFileSize: 305.6 KiB