Package: GDSArray Version: 1.28.0 Command: /Library/Frameworks/R.framework/Resources/bin/R CMD check --install=check:GDSArray.install-out.txt --library=/Library/Frameworks/R.framework/Resources/library --no-vignettes --timings GDSArray_1.28.0.tar.gz StartedAt: 2025-04-21 20:50:11 -0400 (Mon, 21 Apr 2025) EndedAt: 2025-04-21 20:52:38 -0400 (Mon, 21 Apr 2025) EllapsedTime: 147.0 seconds RetCode: 0 Status: OK CheckDir: GDSArray.Rcheck Warnings: 0