Package: GDSArray Version: 1.28.0 Command: /Library/Frameworks/R.framework/Resources/bin/R CMD check --install=check:GDSArray.install-out.txt --library=/Library/Frameworks/R.framework/Resources/library --no-vignettes --timings GDSArray_1.28.0.tar.gz StartedAt: 2025-10-14 22:20:43 -0400 (Tue, 14 Oct 2025) EndedAt: 2025-10-14 22:23:04 -0400 (Tue, 14 Oct 2025) EllapsedTime: 141.4 seconds RetCode: 0 Status: OK CheckDir: GDSArray.Rcheck Warnings: 0