Package: GDSArray Version: 1.28.0 Command: /Library/Frameworks/R.framework/Resources/bin/R CMD build --keep-empty-dirs --no-resave-data GDSArray StartedAt: 2025-10-14 00:49:30 -0400 (Tue, 14 Oct 2025) EndedAt: 2025-10-14 00:50:04 -0400 (Tue, 14 Oct 2025) EllapsedTime: 34.2 seconds RetCode: 0 Status: OK PackageFile: GDSArray_1.28.0.tar.gz PackageFileSize: 305.5 KiB