Package: GDSArray Version: 1.28.0 Command: rm -rf GDSArray.buildbin-libdir && mkdir GDSArray.buildbin-libdir && /Users/biocbuild/BBS/utils/build-universal.sh GDSArray_1.28.0.tar.gz /Library/Frameworks/R.framework/Resources/bin/R GDSArray.buildbin-libdir StartedAt: 2025-10-15 18:36:02 -0400 (Wed, 15 Oct 2025) EndedAt: 2025-10-15 18:36:25 -0400 (Wed, 15 Oct 2025) EllapsedTime: 23.6 seconds RetCode: 0 Status: OK PackageFile: GDSArray_1.28.0.tgz PackageFileSize: 666.4 KiB