Package: GDCRNATools Version: 1.28.0 Command: /home/biocbuild/bbs-3.21-bioc/R/bin/R CMD check --install=check:GDCRNATools.install-out.txt --library=/home/biocbuild/bbs-3.21-bioc/R/site-library --timings GDCRNATools_1.28.0.tar.gz StartedAt: 2025-10-15 23:25:04 -0400 (Wed, 15 Oct 2025) EndedAt: 2025-10-15 23:30:56 -0400 (Wed, 15 Oct 2025) EllapsedTime: 351.5 seconds RetCode: 0 Status: OK CheckDir: GDCRNATools.Rcheck Warnings: 0