Package: GDCRNATools Version: 1.28.0 Command: rm -rf GDCRNATools.buildbin-libdir && mkdir GDCRNATools.buildbin-libdir && /Users/biocbuild/BBS/utils/build-universal.sh GDCRNATools_1.28.0.tar.gz /Library/Frameworks/R.framework/Resources/bin/R GDCRNATools.buildbin-libdir StartedAt: 2025-10-15 18:35:12 -0400 (Wed, 15 Oct 2025) EndedAt: 2025-10-15 18:36:35 -0400 (Wed, 15 Oct 2025) EllapsedTime: 83.2 seconds RetCode: 0 Status: OK PackageFile: GDCRNATools_1.28.0.tgz PackageFileSize: 3.37 MiB