Package: GBScleanR Version: 2.2.0 Command: chmod a+r GBScleanR -R && E:\biocbuild\bbs-3.21-bioc\R\bin\R.exe CMD build --keep-empty-dirs --no-resave-data GBScleanR StartedAt: 2025-08-14 19:14:53 -0400 (Thu, 14 Aug 2025) EndedAt: 2025-08-14 19:18:05 -0400 (Thu, 14 Aug 2025) EllapsedTime: 191.5 seconds RetCode: 0 Status: OK PackageFile: GBScleanR_2.2.0.tar.gz PackageFileSize: 1.008 MiB